BEGIN:VCALENDAR
VERSION:2.0
PRODID:-//Tukios.com/
BEGIN:VEVENT
UID:768c1b26-c890-4373-bd69-982e66c3577a@www.meredithfh.com
DTSTAMP:20260420T214039Z
DTSTART:20260423T150000Z
DTEND:20260423T160000Z
SUMMARY:Visitation
DESCRIPTION:
URL:https://www.meredithfh.com/obituaries/virginia-page
LOCATION:Murdale Baptist Church 2701 West Main Street  Carbondale IL 
	62901
GEO:37.7355668;-89.2529306
END:VEVENT
END:VCALENDAR