BEGIN:VCALENDAR
VERSION:2.0
PRODID:-//Tukios.com/
BEGIN:VEVENT
UID:60887018-0fd2-44ff-ac1c-1ddbc3d98f64@www.meredithfh.com
DTSTAMP:20260420T214338Z
DTSTART:20260423T160000Z
DTEND:20260423T170000Z
SUMMARY:Funeral Service
DESCRIPTION:
URL:https://www.meredithfh.com/obituaries/virginia-page
LOCATION:Murdale Baptist Church 2701 West Main Street  Carbondale IL 
	62901
GEO:37.7355668;-89.2529306
END:VEVENT
END:VCALENDAR